BEGIN:VCALENDAR
VERSION:2.0
PRODID:-//DP Pro Event Calendar//3.0.5//EN
BEGIN:VEVENT
UID:0931337e-c519-462c-a90b-cc5325f5df4a
DTSTART;TZID=America/Chicago:20170502T202000
DTEND;TZID=America/Chicago:20170502T223000
DTSTAMP:20170331T113334Z
SUMMARY:Hockey Finder Tuesday Night League
DESCRIPTION:
LOCATION:
URL:
END:VEVENT
END:VCALENDAR