BEGIN:VCALENDAR
VERSION:2.0
PRODID:-//DP Pro Event Calendar//3.0.5//EN
BEGIN:VEVENT
UID:d6911dec-c0b2-4616-bed0-a9fcec9439b0
DTSTART;TZID=America/Chicago:20170306T191500
DTEND;TZID=America/Chicago:20170306T201500
DTSTAMP:20170228T190630Z
SUMMARY:Trailblazers 2007 Practice
DESCRIPTION:
LOCATION:
URL:
END:VEVENT
END:VCALENDAR