BEGIN:VCALENDAR
VERSION:2.0
PRODID:-//DP Pro Event Calendar//3.0.5//EN
BEGIN:VEVENT
UID:f4e6bf23-9104-46c6-b98c-d2a4a6bed1a8
DTSTART;TZID=America/Chicago:20170122T113000
DTEND;TZID=America/Chicago:20170122T134500
DTSTAMP:20160801T161104Z
SUMMARY:Omaha Hockey Club
DESCRIPTION:
LOCATION:
URL:
END:VEVENT
END:VCALENDAR