BEGIN:VCALENDAR
VERSION:2.0
PRODID:-//DP Pro Event Calendar//3.0.5//EN
BEGIN:VEVENT
UID:a5ab6f3b-8d6e-42d2-89ea-834ea59c6570
DTSTART;TZID=America/Chicago:20161112T124500
DTEND;TZID=America/Chicago:20161112T141500
DTSTAMP:20161024T123349Z
SUMMARY:Aaliyah Holliman
DESCRIPTION:Party Room at 11:45pm.
LOCATION:
URL:
END:VEVENT
END:VCALENDAR