BEGIN:VCALENDAR
VERSION:2.0
PRODID:-//DP Pro Event Calendar//3.0.5//EN
BEGIN:VEVENT
UID:f2887a69-1f3a-4841-80db-371a151d6fec
DTSTART;TZID=America/Chicago:20160714T191500
DTEND;TZID=America/Chicago:20160714T201500
DTSTAMP:20160615T120639Z
SUMMARY:Aufenkamp Hockey
DESCRIPTION:
LOCATION:
URL:
END:VEVENT
END:VCALENDAR