BEGIN:VCALENDAR
VERSION:2.0
PRODID:-//DP Pro Event Calendar//3.0.5//EN
BEGIN:VEVENT
UID:1a23f70a-e17f-49db-b826-c13bda54f363
DTSTART;TZID=America/Chicago:20160618T101500
DTEND;TZID=America/Chicago:20160618T111500
DTSTAMP:20160616T095817Z
SUMMARY:Massa Goaltending
DESCRIPTION:
LOCATION:
URL:
END:VEVENT
END:VCALENDAR